BEGIN:VCALENDAR
VERSION:2.0
PRODID:-//Musiques aux champs - ECPv6.15.20//NONSGML v1.0//EN
CALSCALE:GREGORIAN
METHOD:PUBLISH
X-WR-CALNAME:Musiques aux champs
X-ORIGINAL-URL:https://musiquesauxchamps.fr
X-WR-CALDESC:Évènements pour Musiques aux champs
REFRESH-INTERVAL;VALUE=DURATION:PT1H
X-Robots-Tag:noindex
X-PUBLISHED-TTL:PT1H
BEGIN:VTIMEZONE
TZID:Europe/Paris
BEGIN:DAYLIGHT
TZOFFSETFROM:+0100
TZOFFSETTO:+0200
TZNAME:CEST
DTSTART:20240331T010000
END:DAYLIGHT
BEGIN:STANDARD
TZOFFSETFROM:+0200
TZOFFSETTO:+0100
TZNAME:CET
DTSTART:20241027T010000
END:STANDARD
BEGIN:DAYLIGHT
TZOFFSETFROM:+0100
TZOFFSETTO:+0200
TZNAME:CEST
DTSTART:20250330T010000
END:DAYLIGHT
BEGIN:STANDARD
TZOFFSETFROM:+0200
TZOFFSETTO:+0100
TZNAME:CET
DTSTART:20251026T010000
END:STANDARD
BEGIN:DAYLIGHT
TZOFFSETFROM:+0100
TZOFFSETTO:+0200
TZNAME:CEST
DTSTART:20260329T010000
END:DAYLIGHT
BEGIN:STANDARD
TZOFFSETFROM:+0200
TZOFFSETTO:+0100
TZNAME:CET
DTSTART:20261025T010000
END:STANDARD
END:VTIMEZONE
BEGIN:VEVENT
DTSTART;TZID=Europe/Paris:20250725T150000
DTEND;TZID=Europe/Paris:20250725T163000
DTSTAMP:20260422T180654
CREATED:20250708T234717Z
LAST-MODIFIED:20250721T221137Z
UID:870-1753455600-1753461000@musiquesauxchamps.fr
SUMMARY:HAENDEL FACE À BACH
DESCRIPTION:Récital de clavecin par Chloé de Guillebon \n \nAu programme : œuvres de François Couperin\, Georg Friedrich Handel  et Johann Sebastian Bach : \n\nFrançois Couperin :  Huitième Ordre\nLa Raphaéle\, Allemande\, Courante\, Courante\, Sarabande\, Gavotte\, Rondeau\, Gigue\, Passacaille\, La Morinete\nGeorg Friederich Händel : Suite en ré mineur HWV 428\nPrélude\, Allemande\, Courante\, Air et variations\, Presto\nJohann Sebastian Bach : Sixième suite anglaise n°6 en ré mineur BWV 811\nPrélude\, allemande\, courante\, Sarabande\, Double de la Sarabande\, Gavotte I\, Gavotte II\, Gavotte I\, Gigue\n\nEn partenariat avec le festival Bach en Combrailles \n \nChloé de Guillebon jouera sur un clavecin du facteur Jean-François Chaudeurge. Il s’agit d’une copie du Goujon de la cité de la musique\, étendue Fa-fa\, deux claviers\, 2×8′ et 4′\, jeu de luth\, transpositeur 392\, 415 et 440\, becs en plume.  \n \nMoment d’échange et de convivialité à l’issue du concert pour présenter le projet de Musiques aux Champs \nTarifs : \n– 15 Euros\n– Pass duo pour deux concerts :  25 Euros\n– Pass pour trois concerts : 30 €\n– Gratuité pour les moins de 18 ans\, étudiant-e-s\, personne en recherche d’emploi. \nRèglement sur place avant le concert\, en espèces ou par chèque \nInformations : \n– Une boisson gratuite offerte par billet après le concert \n– Restauration rapide sur place après le concert (foodtruck le samedi 26 juillet 2025) \n– Visite commentée de l’église Saint-Bonnet de Chastreix (Monument Historique) à 18h30 \n– Pour votre hébergement se rapprocher de l’office du tourisme du Mont Dore : https://www.sancy.com/decouvrir/toutes-les-communes/le-mont-dore/
URL:https://musiquesauxchamps.fr/event/haendel-face-a-bach/
LOCATION:Eglise de Chastreix\, Eglise\, Chastreix\, 63680\, France
ATTACH;FMTTYPE=image/jpeg:https://musiquesauxchamps.fr/wp-content/uploads/2025/07/SAISON-5-JUILLET_WEB-CONCERT-1-1.jpg
END:VEVENT
BEGIN:VEVENT
DTSTART;TZID=Europe/Paris:20250725T193000
DTEND;TZID=Europe/Paris:20250725T210000
DTSTAMP:20260422T180654
CREATED:20250709T000624Z
LAST-MODIFIED:20250725T123043Z
UID:880-1753471800-1753477200@musiquesauxchamps.fr
SUMMARY:GLORIOSA
DESCRIPTION:GLORIOSA\nMusiciennes et femmes influentes au coeur de la musique française du 17e siècle.\n Ensemble Le Concert de la Reine\n  \nA travers de programmes poétiques\, le Concert de la Reine souhaite faire découvrir des chefs d’œuvre oubliés composés pour voix et violes de gambe. Fondé en 2021 par Chloé de Guillebon\, l’ensemble s’est depuis produit dans des festivals en France et aux Etats-Unis. \n\nLe programme GLORIOSA met en lumière la place des femmes dans la musique du XVIIe siècle. Qu’elles soient compositrices ou mécènes\, elles ont joué un rôle majeur dans la production musicale en France.  \nAinsi\, Mlle de Guise fut l’une des figures incontournables de la vie musicale parisienne\, notamment grâce à l’ensemble qu’elle entretenait. Marc-Antoine Charpentier fut à son service entre 1670 et 1688 et composa de nombreuses œuvres pour cet ensemble\, composé en grande partie de musiciennes. \nDe même\, Charlotte d’Ailly reçut la dédicace du premier recueil de Dumont\, Cantica Sacra\, avant que celui-ci ne devienne Maître de Musique de la Reine. \nEnfin\, certaines femmes parvinrent à s’imposer comme compositrices\, à l’image d’Élisabeth Jacquet de La Guerre\, figure emblématique de son époque. \n\n\n​Au programme :  \n\n\nMarc-Antoine Charpentier\, Prologue\, Caecilia virgo et martyr H.415\nHenri Dumont\, Allemanda\, Cantantibus Organis\, Est Secretum Valeriane\, Virgo Gloriosa\, Pavana\, Symphonia\, Allemanda\nElisabeth Jacquet de la Guerre\, Suzanne et les vieillards\nMarc-Antoine Charpentier\, Symphonie de la nuit\, Magdalena Lugens H.343\n\n\nClavecin et direction : Chloé de Guillebon \n\nSoprano : Sarah Charles \nViole de gambe : Sacha Levy \nViole de gambe :  Alexandre Ducène \n \n \n \n \nTarifs : \n– 15 Euros par concert\n– Pass duo pour les deux concerts du 25 juillet :  25 Euros\n– Gratuité pour les moins de 18 ans\, étudiant-e-s\, personne en recherche d’emploi. \nRèglement sur place avant le concert\, en espèces ou par chèque \nInformations : \n– Une boisson gratuite offerte par billet après le concert \n– Restauration rapide sur place après le concert (foodtruck le samedi 26 juillet 2025) \n– Visite commentée de l’église Saint-Bonnet de Chastreix (Monument Historique) à 18h30 \n– Pour votre hébergement se rapprocher de l’office du tourisme du Mont Dore : https://www.sancy.com/decouvrir/toutes-les-communes/le-mont-dore/
URL:https://musiquesauxchamps.fr/event/gloriosa/
LOCATION:Eglise de Chastreix\, Eglise\, Chastreix\, 63680\, France
ATTACH;FMTTYPE=image/jpeg:https://musiquesauxchamps.fr/wp-content/uploads/2025/07/SAISON-5-JUILLET_WEB-CONCERT-2.jpg
END:VEVENT
BEGIN:VEVENT
DTSTART;TZID=Europe/Paris:20250726T193000
DTEND;TZID=Europe/Paris:20250726T210000
DTSTAMP:20260422T180654
CREATED:20250710T234203Z
LAST-MODIFIED:20250725T122811Z
UID:901-1753558200-1753563600@musiquesauxchamps.fr
SUMMARY:CEASE\, SORROWS!
DESCRIPTION:Cease\, Sorrows!\nDe la mélancolie à la joie : la chanson anglaise au 17e siècle\, miroir des passions.\nUne soirée baroque au féminin\nDes suites de danses aux airs les plus mélancoliques\, en passant par des chansons pleines d’esprit et d’humour\, ce programme reflète la diversité et la richesse de la musique anglaise au début du 17e siècle.\nConcert par l’ensemble Le Concert de la Reine\n \nDirection et clavecin : Chloé de Guillebon\nSoprano : Sarah Charles\nViole de gambe : Sacha Levy et Alexandre Ducène\n \n \nCease\, Sorrows! : émotions et passions dans la chanson anglaise au 17e siècle.\n \n\nLe programme CEASE\, SORROWS fait entendre des œuvres composées après la période élisabéthaine\, à l’aube du règne de Jacques Ier : \n\n\n\nMatthew Locke\, Pavan in c minor\nTobias Hume\, What greater grief\, The passion of music\nFrancis Pilkington\, Now peep\, bo peep\, My choice is made\nGiles Farnaby\, Barafostus Dream\nThomas Weelkes\, Come Sirrah Jack\nWilliam Byrd\, Pavana Lachrimae\nJohn Dowland\, Sorrow stay\nThomas Weelkes\, Cease\, sorrows\, now\nWilliam Lawes\, Suite in a for two viols\, While I this standing lake\, Music the master of thy art is dead\, Dearest all fair\n\n\nTarifs : \n– 15 Euros\n– Pass duo pour deux concerts au choix :  25 Euros\n– Pass pour trois concerts au choix : 30 Euros\n– Gratuité pour les moins de 18 ans\, étudiant-e-s\, personne en recherche d’emploi. \nRèglement sur place avant le concert\, en espèces ou par chèque \nInformations : \n– Une boisson gratuite offerte par billet après le concert \n– Restauration rapide sur place après le concert (foodtruck le samedi 26 juillet 2025) \n– Visite guidée de l’église Saint-Bonnet de Chastreix (Monument Historique) à 18h30 \n– Pour votre hébergement se rapprocher de l’office du tourisme du Mont Dore : https://www.sancy.com/decouvrir/toutes-les-communes/le-mont-dore/
URL:https://musiquesauxchamps.fr/event/cease-sorrow/
LOCATION:Eglise de Chastreix\, Eglise\, Chastreix\, 63680\, France
ATTACH;FMTTYPE=image/jpeg:https://musiquesauxchamps.fr/wp-content/uploads/2025/07/VIGNETTES-SAISON-5-JUILLET-SITE_WEB-CONCERT-3.jpeg
END:VEVENT
BEGIN:VEVENT
DTSTART;TZID=Europe/Paris:20250727T193000
DTEND;TZID=Europe/Paris:20250727T210000
DTSTAMP:20260422T180654
CREATED:20250711T000803Z
LAST-MODIFIED:20250721T102258Z
UID:915-1753644600-1753650000@musiquesauxchamps.fr
SUMMARY:BACH\, SCARLATTI\, BRAHMS\, DVORAK et musiques d'Europe de l'Est
DESCRIPTION:J.S. Bach\, Domenico Scarlatti\, Johannes Brahms\, Anton Dvorak … et les musiques d’Europe de l’Est. \nAvec le CNIMA\, Futa Mizutani\, Volodymyr Kashuta\, Hélène Friberg\, Raphaël Chenot \nAccessible aux enfants \nNé à Tokyo en 2009\, Futa Mizutani est élève en première année au Lycée affilié à l’Université de Musique de Tokyo. Il commence l’accordéon à l’âge de 4 ans\, et remporte les premiers prix aux concours internationaux du PIF Castelfidardo en 2021 et 2022\, ainsi qu’à Klingenthal en 2023. \nIl se produit régulièrement au Japon\, dans des concerts classiques ou contemporains\, et participe à de nombreuses créations. \nArtiste déjà remarqué sur la scène internationale\, il attire l’attention au-delà des frontières de son pays. Il suit des formations au CNIMA chaque été. \nLe Duo des Ailes : Hélène FRIBERG et Raphaël CHENOT\, violonistes\, inaugure un beau compagnonnage musical avec l’excellent accordéoniste Volodimir KASHUTA. Au programme : musiques d’Europe de l’Est : Ukraine\, Roumanie\, Hongrie\, Russie\, Tzigane\, Klezmer. Nous entendrons ce riche patrimoine\, des régions terriblement éprouvées au cours de l’Histoire et qui ont pu trouver dans la musique un exutoire d’expression et de consolation irremplaçables. \nLes musiciens présenteront les pièces au fur et à mesure de la soirée. \n \nVolodymyr Kashuta est un accordéoniste\, compositeur et pédagogue ukrainien\, lauréat de la Coupe du Monde d’accordéon\, l’un des concours internationaux les plus prestigieux dans le domaine. Diplômé du conservatoire supérieur en Ukraine\, il a enrichi sa formation dans plusieurs académies européennes\, développant une expression musicale singulière\, à la croisée de la tradition classique\, de la musique de film et des influences contemporaines. \nEn tant que compositeur\, il crée des œuvres originales pour accordéon solo et pour diverses formations\, mêlant virtuosité\, narration musicale et recherche sonore. Pédagogue engagé\, il transmet sa passion à travers l’enseignement\, les masterclasses et des projets artistiques en Europe. \nTarifs :\n– 15 Euros\n– Pass deux concerts au choix :  25 Euros\n– Pass trois concerts au choix : 30 €\n– Gratuité pour les moins de 18 ans\, étudiant-e-s\, personne en recherche d’emploi. \nRèglement sur place avant le concert\, en espèces ou par chèque \nInformations : \n– Une boisson gratuite offerte par billet après le concert \n– Restauration rapide sur place après le concert \n– Visite commentée de l’église Saint-Bonnet de Chastreix (Monument Historique) à 18h30 \n– Pour votre hébergement se rapprocher de l’office du tourisme du Mont Dore : https://www.sancy.com/decouvrir/toutes-les-communes/le-mont-dore/
URL:https://musiquesauxchamps.fr/event/bach-scarlatti-brahms-dvorak-et-musiques-deurope-de-lest/
LOCATION:Eglise de Chastreix\, Eglise\, Chastreix\, 63680\, France
ATTACH;FMTTYPE=image/jpeg:https://musiquesauxchamps.fr/wp-content/uploads/2025/07/SAISON-5-JUILLET_WEB-CONCERT-4.jpg
END:VEVENT
END:VCALENDAR