BEGIN:VCALENDAR
VERSION:2.0
PRODID:-//Musiques aux champs - ECPv6.15.20//NONSGML v1.0//EN
CALSCALE:GREGORIAN
METHOD:PUBLISH
X-WR-CALNAME:Musiques aux champs
X-ORIGINAL-URL:https://musiquesauxchamps.fr
X-WR-CALDESC:Évènements pour Musiques aux champs
REFRESH-INTERVAL;VALUE=DURATION:PT1H
X-Robots-Tag:noindex
X-PUBLISHED-TTL:PT1H
BEGIN:VTIMEZONE
TZID:Europe/Paris
BEGIN:DAYLIGHT
TZOFFSETFROM:+0100
TZOFFSETTO:+0200
TZNAME:CEST
DTSTART:20230326T010000
END:DAYLIGHT
BEGIN:STANDARD
TZOFFSETFROM:+0200
TZOFFSETTO:+0100
TZNAME:CET
DTSTART:20231029T010000
END:STANDARD
BEGIN:DAYLIGHT
TZOFFSETFROM:+0100
TZOFFSETTO:+0200
TZNAME:CEST
DTSTART:20240331T010000
END:DAYLIGHT
BEGIN:STANDARD
TZOFFSETFROM:+0200
TZOFFSETTO:+0100
TZNAME:CET
DTSTART:20241027T010000
END:STANDARD
BEGIN:DAYLIGHT
TZOFFSETFROM:+0100
TZOFFSETTO:+0200
TZNAME:CEST
DTSTART:20250330T010000
END:DAYLIGHT
BEGIN:STANDARD
TZOFFSETFROM:+0200
TZOFFSETTO:+0100
TZNAME:CET
DTSTART:20251026T010000
END:STANDARD
END:VTIMEZONE
BEGIN:VEVENT
DTSTART;TZID=Europe/Paris:20241026T180000
DTEND;TZID=Europe/Paris:20241026T200000
DTSTAMP:20260422T120333
CREATED:20240311T151020Z
LAST-MODIFIED:20241014T104340Z
UID:192-1729965600-1729972800@musiquesauxchamps.fr
SUMMARY:Elena Andreyev
DESCRIPTION:Pour clôturer la saison 4 de Musiques aux Champs\, Elena Andreyev nous offre les dernières suites de l’intégrale des 6 suites pour violoncelle de Jean-Sébastien Bach. \nLors de notre tout premier concert à Chastreix en 2020\, elle avait déjà interprété les trois premières suites. Ce magnifique ensemble musical\, riche en émotions\, résonne parfaitement avec l’intimité et l’acoustique unique de l’église de Chastreix. \nUn moment fort pour achever cette belle saison. \n🗓️ Samedi 26 octobre 2024 à 18h30\n📍Église Saint-Bonnet de Chastreix (Puy-de-Dôme) \nRèglement sur place\, en espèces uniquement.
URL:https://musiquesauxchamps.fr/event/elena-andreyev-2/
LOCATION:Eglise de Chastreix\, Eglise\, Chastreix\, 63680\, France
ATTACH;FMTTYPE=image/jpeg:https://musiquesauxchamps.fr/wp-content/uploads/2024/03/Elena_Andreyev_03.jpeg
END:VEVENT
END:VCALENDAR